BEGIN:VCALENDAR
VERSION:2.0
PRODID:-//MVCS PTA - ECPv6.15.1.1//NONSGML v1.0//EN
CALSCALE:GREGORIAN
METHOD:PUBLISH
X-WR-CALNAME:MVCS PTA
X-ORIGINAL-URL:https://mvcspta.org
X-WR-CALDESC:Events for MVCS PTA
REFRESH-INTERVAL;VALUE=DURATION:PT1H
X-Robots-Tag:noindex
X-PUBLISHED-TTL:PT1H
BEGIN:VTIMEZONE
TZID:America/New_York
BEGIN:DAYLIGHT
TZOFFSETFROM:-0500
TZOFFSETTO:-0400
TZNAME:EDT
DTSTART:20240310T070000
END:DAYLIGHT
BEGIN:STANDARD
TZOFFSETFROM:-0400
TZOFFSETTO:-0500
TZNAME:EST
DTSTART:20241103T060000
END:STANDARD
BEGIN:DAYLIGHT
TZOFFSETFROM:-0500
TZOFFSETTO:-0400
TZNAME:EDT
DTSTART:20250309T070000
END:DAYLIGHT
BEGIN:STANDARD
TZOFFSETFROM:-0400
TZOFFSETTO:-0500
TZNAME:EST
DTSTART:20251102T060000
END:STANDARD
END:VTIMEZONE
BEGIN:VEVENT
DTSTART;TZID=America/New_York:20250520T183000
DTEND;TZID=America/New_York:20250520T193000
DTSTAMP:20260423T122359
CREATED:20250228T230528Z
LAST-MODIFIED:20250519T234209Z
UID:25165-1747765800-1747769400@mvcspta.org
SUMMARY:May PTA Meeting
DESCRIPTION:Join us for our last PTA meeting of the 2024/25 school year. May’s meeting will be held in the MVCS library.
URL:https://mvcspta.org/event/may-pta-meeting-3/
LOCATION:MVCS Library\, 2601 Commonwealth Ave.\, Alexandria\, 22305
END:VEVENT
BEGIN:VEVENT
DTSTART;TZID=America/New_York:20250516T170000
DTEND;TZID=America/New_York:20250516T190000
DTSTAMP:20260423T122359
CREATED:20250228T230552Z
LAST-MODIFIED:20250228T230552Z
UID:25181-1747414800-1747422000@mvcspta.org
SUMMARY:International Night!
DESCRIPTION:Save the date for the 2025 International Night at MVCS. More details to come in the Thursday folder!
URL:https://mvcspta.org/event/international-night/
LOCATION:Mount Vernon Community School\, 2601 Commonwealth Avenue\, Alexandria\, VA\, 22305\, United States
END:VEVENT
BEGIN:VEVENT
DTSTART;TZID=America/New_York:20250502T150000
DTEND;TZID=America/New_York:20250502T170000
DTSTAMP:20260423T122359
CREATED:20250228T230623Z
LAST-MODIFIED:20250228T230623Z
UID:25183-1746198000-1746205200@mvcspta.org
SUMMARY:Cinco de Mile!
DESCRIPTION:Save the date for the 2025 Cinco de Mile! Look for more information in upcoming Thursday newsletters.
URL:https://mvcspta.org/event/cinco-de-mile-3/
LOCATION:Mt. Vernon Recreation Center\, 2701 Commonwealth Ave.\, Alexandria\, VA\, 22305\, United States
END:VEVENT
BEGIN:VEVENT
DTSTART;TZID=America/New_York:20250426T080000
DTEND;TZID=America/New_York:20250426T170000
DTSTAMP:20260423T122359
CREATED:20250228T230649Z
LAST-MODIFIED:20250228T230649Z
UID:25179-1745654400-1745686800@mvcspta.org
SUMMARY:The Big Flea!
DESCRIPTION:The Mount Vernon Big Flea is one of the MVCS PTA’s largest fundraisers\, turning donated treasures into vital support for our students! \nMark your calendars for April 26\, 2025\, and start saving your gently used goods for our Fill the Flea donation events. \nWe also need volunteers to help collect\, sort\, and sell—join us and be part of this amazing community event! Visit TheBigFlea.org to learn more about donating goods\, volunteering and shopping!
URL:https://mvcspta.org/event/the-big-flea/
LOCATION:Mt. Vernon Recreation Center\, 2701 Commonwealth Ave.\, Alexandria\, VA\, 22305\, United States
END:VEVENT
BEGIN:VEVENT
DTSTART;TZID=America/New_York:20250424T180000
DTEND;TZID=America/New_York:20250424T183000
DTSTAMP:20260423T122359
CREATED:20250228T230718Z
LAST-MODIFIED:20250422T194400Z
UID:25167-1745517600-1745519400@mvcspta.org
SUMMARY:April PTA Meeting
DESCRIPTION:Join us at MVCS for the April PTA meeting in the library. More information and an agenda will be shared in the Thursday folder.
URL:https://mvcspta.org/event/april-pta-meeting-2/
LOCATION:Mount Vernon Community School\, 2601 Commonwealth Avenue\, Alexandria\, VA\, 22305\, United States
END:VEVENT
BEGIN:VEVENT
DTSTART;TZID=America/New_York:20250325T180000
DTEND;TZID=America/New_York:20250325T190000
DTSTAMP:20260423T122359
CREATED:20250228T230742Z
LAST-MODIFIED:20250320T183705Z
UID:25169-1742925600-1742929200@mvcspta.org
SUMMARY:March PTA Meeting
DESCRIPTION:Join us for for the March PTA meeting in the MVCS Library. Additional information and agenda will be shared through the Thursday Newsletter.
URL:https://mvcspta.org/event/march-pta-meeting-2/
LOCATION:MVCS Library\, 2601 Commonwealth Ave.\, Alexandria\, 22305
END:VEVENT
BEGIN:VEVENT
DTSTART;TZID=America/New_York:20250321T170000
DTEND;TZID=America/New_York:20250321T190000
DTSTAMP:20260423T122359
CREATED:20250228T230824Z
LAST-MODIFIED:20250228T230824Z
UID:25177-1742576400-1742583600@mvcspta.org
SUMMARY:Science Night!
DESCRIPTION:Join us for Science Night at MVCS on Friday\, March 21st \, from 5pm to 7pm. \n 
URL:https://mvcspta.org/event/science-night/
LOCATION:MVCS Primary Playground\, Mt Vernon Ave & E Uhler Ave\, Alexandria\, VA\, 22305\, United States
END:VEVENT
BEGIN:VEVENT
DTSTART;TZID=America/New_York:20250307T181500
DTEND;TZID=America/New_York:20250307T200000
DTSTAMP:20260423T122359
CREATED:20250228T230908Z
LAST-MODIFIED:20250228T230908Z
UID:25175-1741371300-1741377600@mvcspta.org
SUMMARY:March Bingo Night!
DESCRIPTION:Come for a fun night of Bingo! Play for prizes! Pizza\, drinks\, and bake sale items will available for purchase. $20 for 6 boards. Please reach out to Ms. Landeros for assistance. See you there!
URL:https://mvcspta.org/event/march-bingo-night-2/
LOCATION:MVCS Cafeteria\, 2601 Commonwealth Avenue\, Alexandria\, VA\, 22305\, United States
END:VEVENT
BEGIN:VEVENT
DTSTART;TZID=America/New_York:20250221T180000
DTEND;TZID=America/New_York:20250221T183000
DTSTAMP:20260423T122359
CREATED:20250228T230946Z
LAST-MODIFIED:20250228T231004Z
UID:25171-1740160800-1740162600@mvcspta.org
SUMMARY:February PTA Meeting
DESCRIPTION:Join us for for the February PTA meeting\, along with a celebration in honor of Black history month. Additional information and agenda will be shared through the Thursday Newsletter.
URL:https://mvcspta.org/event/february-pta-meeting/
LOCATION:MVCS Library\, 2601 Commonwealth Ave.\, Alexandria\, 22305
END:VEVENT
BEGIN:VEVENT
DTSTART;TZID=America/New_York:20250121T180000
DTEND;TZID=America/New_York:20250121T183000
DTSTAMP:20260423T122359
CREATED:20250228T231028Z
LAST-MODIFIED:20250228T231028Z
UID:25173-1737482400-1737484200@mvcspta.org
SUMMARY:January PTA Meeting
DESCRIPTION:Join us for for the January PTA meeting\, along with a celebration (Math Night!). Additional information and agenda will be shared through the Thursday Newsletter.
URL:https://mvcspta.org/event/january-pta-meeting/
LOCATION:MVCS Library\, 2601 Commonwealth Ave.\, Alexandria\, 22305
END:VEVENT
BEGIN:VEVENT
DTSTART;TZID=America/New_York:20241119T180000
DTEND;TZID=America/New_York:20241119T190000
DTSTAMP:20260423T122359
CREATED:20240917T202350Z
LAST-MODIFIED:20241107T144855Z
UID:24343-1732039200-1732042800@mvcspta.org
SUMMARY:November PTA Meeting
DESCRIPTION:We are looking forward to seeing everyone at the PTA member meeting of the school year! The meeting will be held at Casa Chirilagua and via ZOOM.  The meeting will start with updates from the PTA and Ms. Hamilton\, feature a presentation about The “”Why” Behind Dual Language & Preliminary 23-24 Data Overview.  \nFood\, Spanish translation\, and childcare for MVCS students (5 and up) will be provided. All are welcome.
URL:https://mvcspta.org/event/november-pta-meeting-3/
LOCATION:Casa Chirilagua\, 4109 Mount Vernon Avenue\, Alexandria\, VA\, 22305\, United States
END:VEVENT
BEGIN:VEVENT
DTSTART;TZID=America/New_York:20241116T180000
DTEND;TZID=America/New_York:20241116T210000
DTSTAMP:20260423T122359
CREATED:20240917T194507Z
LAST-MODIFIED:20241107T144721Z
UID:24337-1731780000-1731790800@mvcspta.org
SUMMARY:Fabulous Fall Fundraiser
DESCRIPTION:The Fabulous Fall Fundraiser is Saturday\, Nov. 16 from 6-9 PM\, at Gustave Boulangerie\, 2213 Mount Vernon Avenue.   \nThere are a limited number of VIP tickets that come with a special gift and additional drink ticket. Standard tickets are $50 per person and include all entertainment\, food\, and 1 drink ticket. Prices increase the day of the event and VIP tickets have always sold out\, so buy your tickets now!  \nPlease contact Ms. Rosa Landeros for a free or discounted ticket.  Tickets are now on sale here: https://mvcs.givebacks.com/store?limit=21&live=true
URL:https://mvcspta.org/event/fabulous-fall-fundraiser/
LOCATION:VA
END:VEVENT
BEGIN:VEVENT
DTSTART;TZID=America/New_York:20241113T173000
DTEND;TZID=America/New_York:20241113T190000
DTSTAMP:20260423T122359
CREATED:20240917T201455Z
LAST-MODIFIED:20240917T201455Z
UID:24351-1731519000-1731524400@mvcspta.org
SUMMARY:November Dinner with the Principal (DWP)
DESCRIPTION:Dinner with the Principal: Understanding Report Cards and Using Power School\, Casa Chirilagua\, 5:30 PM
URL:https://mvcspta.org/event/november-dinner-with-the-principal-dwp/
LOCATION:Casa Chirilagua\, 4109 Mount Vernon Avenue\, Alexandria\, VA\, 22305\, United States
END:VEVENT
BEGIN:VEVENT
DTSTART;VALUE=DATE:20241104
DTEND;VALUE=DATE:20241105
DTSTAMP:20260423T122359
CREATED:20240917T202158Z
LAST-MODIFIED:20240917T202158Z
UID:24355-1730678400-1730764799@mvcspta.org
SUMMARY:Fall Parent/Teacher Conferences (2 of 2)
DESCRIPTION:No school for students. Monday\, November 4 will be the second of two days reserved for parent teacher conferences. More information about both sessions will be coming soon via parent square.
URL:https://mvcspta.org/event/fall-parent-teacher-conferences-2-of-2/
LOCATION:Mount Vernon Community School\, 2601 Commonwealth Avenue\, Alexandria\, VA\, 22305\, United States
END:VEVENT
BEGIN:VEVENT
DTSTART;VALUE=DATE:20241026
DTEND;VALUE=DATE:20241027
DTSTAMP:20260423T122359
CREATED:20240917T193820Z
LAST-MODIFIED:20240917T193820Z
UID:24335-1729900800-1729987199@mvcspta.org
SUMMARY:Marine Corps Marathon Fun Run (1 mile)
DESCRIPTION:Students can sign up to participate in a one mile fun run. More information about the event\, including registration details and day of logistics will be coming soon!
URL:https://mvcspta.org/event/marine-corps-marathon-fun-run-1-mile/
LOCATION:VA
END:VEVENT
BEGIN:VEVENT
DTSTART;TZID=America/New_York:20241018T180000
DTEND;TZID=America/New_York:20241018T183000
DTSTAMP:20260423T122359
CREATED:20240917T195830Z
LAST-MODIFIED:20240917T195830Z
UID:24341-1729274400-1729276200@mvcspta.org
SUMMARY:October PTA Meeting
DESCRIPTION:Save the date for the October PTA member meeting. The meeting will take place at MVCS (and via Zoom) on the same afternoon/evening as the MVCS Pumpkin Patch and Hispanic Heritage Month Fiesta. More details to come!
URL:https://mvcspta.org/event/october-pta-meeting-2/
LOCATION:Mount Vernon Community School\, 2601 Commonwealth Avenue\, Alexandria\, VA\, 22305\, United States
END:VEVENT
BEGIN:VEVENT
DTSTART;TZID=America/New_York:20241018T150000
DTEND;TZID=America/New_York:20241018T193000
DTSTAMP:20260423T122359
CREATED:20240906T193913Z
LAST-MODIFIED:20240917T192724Z
UID:24319-1729263600-1729279800@mvcspta.org
SUMMARY:MVCS Pumpkin Patch and Hispanic Heritage Month Fiesta!
DESCRIPTION:Come to MVCS for an afternoon of activities and celebration! More details coming soon!
URL:https://mvcspta.org/event/hispanic-heritage-month-fiesta/
LOCATION:Mount Vernon Community School\, 2601 Commonwealth Avenue\, Alexandria\, VA\, 22305\, United States
END:VEVENT
BEGIN:VEVENT
DTSTART;TZID=America/New_York:20241017T081500
DTEND;TZID=America/New_York:20241017T093000
DTSTAMP:20260423T122359
CREATED:20240917T200756Z
LAST-MODIFIED:20240917T200756Z
UID:24349-1729152900-1729157400@mvcspta.org
SUMMARY:October Coffee with the Principal (CWP)
DESCRIPTION:Coffee with the Principal: Preparing for Parent/Teacher Conferences\, MVCS\, 8:15 AM
URL:https://mvcspta.org/event/october-coffee-with-the-principal-cwp/
LOCATION:VA
END:VEVENT
BEGIN:VEVENT
DTSTART;VALUE=DATE:20241004
DTEND;VALUE=DATE:20241005
DTSTAMP:20260423T122359
CREATED:20240917T201950Z
LAST-MODIFIED:20240917T202443Z
UID:24353-1728000000-1728086399@mvcspta.org
SUMMARY:Fall Parent/Teacher Conferences (1 of 2)
DESCRIPTION:No school for students. Friday\, October 4 will be the first of two days reserved for parent teacher conferences. The second conference day is scheduled for Monday\, November 4. More information about both sessions will be coming soon via parent square.
URL:https://mvcspta.org/event/fall-parent-teacher-conferences-1-of-2/
LOCATION:Mount Vernon Community School\, 2601 Commonwealth Avenue\, Alexandria\, VA\, 22305\, United States
END:VEVENT
BEGIN:VEVENT
DTSTART;TZID=America/New_York:20240925T173000
DTEND;TZID=America/New_York:20240925T190000
DTSTAMP:20260423T122359
CREATED:20240917T200453Z
LAST-MODIFIED:20240917T232057Z
UID:24347-1727285400-1727290800@mvcspta.org
SUMMARY:September Dinner with the Principal (DWP)
DESCRIPTION:Dinner with the Principal: Registering for and Using Parent Square\, Casa Chirilagua\, 5:30 PM
URL:https://mvcspta.org/event/september-dinner-with-the-principal-dwp-2/
LOCATION:Casa Chirilagua\, 4109 Mount Vernon Avenue\, Alexandria\, VA\, 22305\, United States
END:VEVENT
BEGIN:VEVENT
DTSTART;TZID=America/New_York:20240919T100000
DTEND;TZID=America/New_York:20250529T120000
DTSTAMP:20260423T122359
CREATED:20240913T140604Z
LAST-MODIFIED:20240917T202952Z
UID:24328-1726740000-1748520000@mvcspta.org
SUMMARY:Free English Classes Sponsored by the MVCS PTA and Padres Activos
DESCRIPTION:Free English Classes Sponsored by the MVCS PTA and Padres Activos \nCome and learn English in a relaxed and friendly environment. Located at Casa Chirligaua\, these free English classes are held weekly on Thursdays from 10 AM – 12 PM\, beginning September 19. Young children are welcome.  \n 
URL:https://mvcspta.org/event/clases-de-ingles-gratuitas/
LOCATION:Casa Chirilagua\, 4109 Mount Vernon Avenue\, Alexandria\, VA\, 22305\, United States
ATTACH;FMTTYPE=image/jpeg:https://mvcspta.org/wp-content/uploads/2024/09/english-class-2024-1.jpg
END:VEVENT
BEGIN:VEVENT
DTSTART;TZID=America/New_York:20240917T190000
DTEND;TZID=America/New_York:20240917T200000
DTSTAMP:20260423T122359
CREATED:20240825T125118Z
LAST-MODIFIED:20240825T125118Z
UID:24312-1726599600-1726603200@mvcspta.org
SUMMARY:September PTA Member Meeting
DESCRIPTION:Come to the first PTA member meeting of the 24/25 school year! The meeting will be held in the MVCS library from 7-8pm. Food and childcare will be provided. \nA link to join the zoom broadcast of the meeting will be provided closer to the event. \n  \n 
URL:https://mvcspta.org/event/september-pta-member-meeting/
LOCATION:Mount Vernon Community School\, 2601 Commonwealth Avenue\, Alexandria\, VA\, 22305\, United States
END:VEVENT
BEGIN:VEVENT
DTSTART;TZID=America/New_York:20240521T190000
DTEND;TZID=America/New_York:20240521T200000
DTSTAMP:20260423T122359
CREATED:20240511T192430Z
LAST-MODIFIED:20240511T192430Z
UID:24286-1716318000-1716321600@mvcspta.org
SUMMARY:May PTA Meeting
DESCRIPTION:May MVCS PTA Meeting | Tuesday\, May 21\, 7 PM\,  Casa Chirilagua/Zoom \nJoin us for the final PTA meeting of the year! Fifth-grade teacher Ms. Emily Porterfield will give a talk on preventing summer learning loss. Dinner and childcare will be provided.
URL:https://mvcspta.org/event/may-pta-meeting-2/
LOCATION:Casa Chirilagua\, 4109 Mount Vernon Avenue\, Alexandria\, VA\, 22305\, United States
END:VEVENT
BEGIN:VEVENT
DTSTART;TZID=America/New_York:20240503T150000
DTEND;TZID=America/New_York:20240503T163000
DTSTAMP:20260423T122359
CREATED:20240413T114116Z
LAST-MODIFIED:20240413T114116Z
UID:24265-1714748400-1714753800@mvcspta.org
SUMMARY:Cinco de Mile
DESCRIPTION:Cinco de Mile| Friday\, May 3\, 3 – 4:30 PM\, MVCS \nMVCS’s Fun Run is back! The goal of this event is to raise money for teacher appreciation and teacher mini-grants while promoting a healthy lifestyle for our students and the community. This event is open to all students and is being coordinated with MVCS Rec and Campagna After School programs so that as many students can participate as possible. More information and registration coming soon!
URL:https://mvcspta.org/event/cinco-de-mile-2/
LOCATION:Mt. Vernon Recreation Center\, 2701 Commonwealth Ave.\, Alexandria\, VA\, 22305\, United States
END:VEVENT
END:VCALENDAR